BEGIN:VCALENDAR
VERSION:2.0
PRODID:-//ArtPara - ECPv6.5.1.5//NONSGML v1.0//EN
CALSCALE:GREGORIAN
METHOD:PUBLISH
X-ORIGINAL-URL:https://art-para.com
X-WR-CALDESC:Events for ArtPara
REFRESH-INTERVAL;VALUE=DURATION:PT1H
X-Robots-Tag:noindex
X-PUBLISHED-TTL:PT1H
BEGIN:VTIMEZONE
TZID:UTC
BEGIN:STANDARD
TZOFFSETFROM:+0000
TZOFFSETTO:+0000
TZNAME:UTC
DTSTART:20240101T000000
END:STANDARD
END:VTIMEZONE
BEGIN:VEVENT
DTSTART;TZID=UTC:20241229T080000
DTEND;TZID=UTC:20241229T170000
DTSTAMP:20260421T103538
CREATED:20240603T025743Z
LAST-MODIFIED:20240603T031250Z
UID:5756-1735459200-1735491600@art-para.com
SUMMARY:Uncovering Secrets of Extraterrestrial Life
DESCRIPTION:Join us for a captivating event that reveals the latest discoveries and theories about extraterrestrial life. Featuring leading scientists and researchers\, this event offers a comprehensive look at the search for life beyond Earth\, including new findings\, technological advancements\, and the implications for humanity. Learn about the cutting-edge tools and techniques used to explore distant planets and moons\, and hear about the most promising discoveries to date.
URL:https://art-para.com/event/uncovering-secrets-of-extraterrestrial-life/
CATEGORIES:Alien
END:VEVENT
END:VCALENDAR