BEGIN:VCALENDAR
VERSION:2.0
PRODID:-//ArtPara - ECPv6.5.1.5//NONSGML v1.0//EN
CALSCALE:GREGORIAN
METHOD:PUBLISH
X-WR-CALNAME:ArtPara
X-ORIGINAL-URL:https://art-para.com
X-WR-CALDESC:Events for ArtPara
REFRESH-INTERVAL;VALUE=DURATION:PT1H
X-Robots-Tag:noindex
X-PUBLISHED-TTL:PT1H
BEGIN:VTIMEZONE
TZID:UTC
BEGIN:STANDARD
TZOFFSETFROM:+0000
TZOFFSETTO:+0000
TZNAME:UTC
DTSTART:20230101T000000
END:STANDARD
END:VTIMEZONE
BEGIN:VEVENT
DTSTART;VALUE=DATE:20230921
DTEND;VALUE=DATE:20241021
DTSTAMP:20260423T095159
CREATED:20190603T235349Z
LAST-MODIFIED:20240710T005253Z
UID:483-1695254400-1729468799@art-para.com
SUMMARY:ArtPara Exhibition: 2nd to 11th\, Sept. 2024
DESCRIPTION:ArtPara Exhibition: 2nd to 11th\, Sept. 2024
URL:https://art-para.com/event/bernard-van-orley-at-saint-gery/
LOCATION:Queens\, New York\, 34th Ave\, NY\, 11106\, United States
CATEGORIES:Invitation
ATTACH;FMTTYPE=image/jpeg:https://art-para.com/wp-content/uploads/2019/05/image-36-copyright.jpg
ORGANIZER;CN="Ozeum Art & History Museum":MAILTO:yoursite@example.com
END:VEVENT
END:VCALENDAR